Workbook
Name dbase: [2]NFStan.dat!$A$20:$S$571
Name ddbase: [2]NFStan.dat!$A$20:$S$571
Name Site: [3]Lists!$A$1:$A$26
Name Species: [3]Lists!$M$1:$M$23

Sheet O mykiss Summary
A1: File Organization: sheet tabs are color-coded - see below for descriptions
A3: Yellow | B3: this summary tab lists the species life stages and the candidate HSC curves proposed for consideration (see table below)
A4: Red | B4: proposed candidate HSC curves - "info" table lists metadata for all available curves (candidates highlighted in yellow), figures show proposed candidate HSC curves by lifestage for depth or velocity
B5: the chinook fry rearing figures also show available RMT site-specific data that is overlaid with candidate curves to help with curve selection
B6: the "Yuba new" datapoint and table on each curve figure is a placeholder in the event that we want to create and overlay a new curve with the existing curves
A7: Blue | B7: ALL HSC curves are plotted together (candidate and non-candidate) - very busy!
A8: Brown | B8: supporting data for figures
A10: Lifestage | B10: Variable | C10: Proposed HSC | D10: Alternate HSC1 | E10: Alternate HSC1
A11: Adult | B11: Velocity | C11: Yuba-Bear lrg | D11: Tuol MOD2
B12: Depth | C12: Yuba-Bear lrg | D12: Tuol MOD3
B13: Substrate | C13: N/A4
B14: Cover | C14: TBD5
A15: Notes:
A16: 1 | B16: alternate HSC curve sets not in any specific order of preference
A17: 2 | B17: velocity curve based on Upper NF Feather River composite HSc and FWS-modified SF American River HSC
A18: 3 | B18: depth curve taken from FWS-modified SF american River HSC
A19: 4 | B19: not proposed for use - fry, juvenile, and adult expected to select microhabitat independent of substrate
A20: 5 | B20: use of cover and/or adjacent velocity HSC to be discussed

Sheet Omadlt.info
B1: RAINBOW ADULT
H2: cm | I2: cm | O2: ft msl | P2: ft msl | Q2: N / W Deg Min.min | S2: ft | T2: ft | U2: ft | V2: cfs | W2: cfs | X2: cfs | Y2: % | Z2: oC | AA2: oC | AB2: oC
C3: Curve ID | E3: Fish Characteristics | J3: Sample Size1 | L3: Stream Location | S3: Stream Characteristics 2 | AD3: Sampling Info | AJ3: Available HSC Curves
G4: Life- | H4: Length | J4: No. HSC | K4: No. | O4: Elevation | Q4: GPS Coordinates | T4: Width | W4: Streamflow | Y4: Mean | AA4: Water Temperature | AC4: Species | AD4: Site - | AE4: Sampling | AF4: Survey | AG4: Observ | AH4: Curve | AI4: Curve | AJ4: Total | AK4: Velocity | AN4: Sub-
B5: Show? | C5: No. | D5: Name | E5: Species | F5: Race | G5: stage | H5: Min | I5: Max | J5: Obs | K5: Fish | L5: Country | M5: State | N5: River | O5: Min | P5: Max | Q5: Downstream | R5: Upstream | S5: Mean | T5: Min | U5: Max | V5: Mean | W5: Low | X5: High | Y5: Slope | Z5: Mean | AA5: Min | AB5: Max | AC5: Composition3 | AD5: Specific? | AE5: Season | AF5: Design4 | AG5: Method5 | AH5: Type6 | AI5: Smoothing7 | AJ5: Depth | AK5: Mean Col | AL5: Focal | AM5: Cover8 | AN5: strate8 | AO5: Other | AP5: Notes | AQ5: Reference
A6: * | B6: Y | C6: 1 | D6: Bovee | E6: RBT | G6: adlt | L6: USA,CAN | M6: OR,ID,BC | N6: various | AD6: N | AH6: Cat I | AJ6: Y | AK6: Y | AL6: N | AM6: N | AN6: Y | AQ6: Bovee, K.D. 1978. Probability-of-use criteria for the family Salmonidae. Instream Flow Information Paper No. 4. Cooperative Instream Flow Service Group, U.S. fish & Wildlife Service, Fort Collins, CO.
A7: * | B7: Y | C7: 2 | D7: Raleigh | E7: RBT | G7: adlt | L7: USA,CAN | M7: OR,ID,CA,BC | N7: various | AD7: N | AH7: Cat I | AJ7: Y | AK7: Y | AL7: N | AM7: N | AN7: Y | AQ7: Raleigh, R.F., T. Hickman, R.C. Solomon, and P.C. Nelson. 1984. Habitat suitability information: Rainbow trout. United States Fish and Wildlife Service FWS/OBS-82/10.60. 64pp.
A8: * | B8: Y | C8: 3 | D8: Up Klamath | E8: RBT | F8: redband | G8: adlt | H8: 16 | I8: 40 | J8: 164 | L8: USA | M8: OR | N8: upper Klamath | O8: 3335 | P8: 3750 | S8: 87 | V8: 325 | Y8: 1.7 | AA8: 55 | AB8: 62 | AC8: RBT,SKR,SCP,chub,LMP | AD8: Y | AE8: July-Sept | AF8: EA | AG8: DO uw | AH8: Cat III | AI8: 3pt running means | AJ8: Y | AK8: Y | AL8: N | AM8: Y | AN8: N | AP8: 6 | AQ8: TRPA 2004
A9: * | B9: Y | C9: 4 | D9: Alt Flows Use | E9: RBT | G9: adlt | J9: 186 | L9: USA | M9: CA | N9: Tule, Willow | O9: 2810 | P9: 4250 | T9: 11 | U9: 27 | W9: 2 | X9: 38 | Y9: 3.8-8 | AA9: 53 | AD9: Y | AE9: July-Oct | AF9: EA | AG9: DO uw | AH9: Cat II | AJ9: Y | AK9: Y | AQ9: Wise et al. 1997
A10: * | B10: Y | C10: 5 | D10: Alt Flows U/A | E10: RBT | G10: adlt | J10: 186 | L10: USA | M10: CA | N10: Tule, Willow | O10: 2810 | P10: 4250 | T10: 11 | U10: 27 | W10: 2 | X10: 38 | Y10: 3.8-9 | AA10: 53 | AD10: Y | AE10: July-Oct | AF10: EA | AG10: DO uw | AH10: Cat III | AJ10: Y | AK10: Y | AQ10: Wise et al. 1998
A11: * | B11: Y | C11: 6 | D11: Bucks/Grizzly | E11: RBT | G11: adlt | H11: 16 | I11: 40 | J11: 168 | L11: USA | M11: CA | N11: Bucks, Grizzly | O11: 4000 | P11: 5000 | S11: 21 | T11: 2 | U11: 62 | W11: 6 | X11: 50 | Y11: 3-11 | AA11: 47 | AB11: 62 | AC11: rbt,brn,scp | AD11: Y | AE11: May-July | AF11: EA | AG11: DO uw | AH11: Cat II | AI11: polynomial regr | AJ11: Y | AK11: Y | AM11: Y | AQ11: TRPA 1991
A12: * | B12: Y | C12: 7 | D12: E Sierras | E12: RBT | G12: adlt | H12: 16 | J12: 224 | L12: USA | M12: CA | N12: various | O12: 4400 | P12: 9400 | T12: 7 | U12: 26 | W12: 1 | X12: 50 | Y12: low-high | AD12: Y | AF12: RCH | AG12: DO uw | AH12: Cat III | AJ12: Y | AK12: Y | AN12: Y | AQ12: Smith, G.E. and M.E. Aceituno. 1987. Habitat preference criteria for brown, brook, and rainbow trout in Eastern Sierra Nevada streams, final report. California Department of Fish and Game Stream Evaluation Report 87-2. Sacramento, California. 103pp.
A13: * | B13: Y | C13: 8 | D13: NF Kings | E13: RBT | G13: adlt | H13: 14 | I13: 30 | J13: 351 | L13: USA | M13: CA | N13: NF Kings & tribs | W13: 5 | X13: 30 | Y13: low-high | AD13: Y | AF13: PROP | AH13: Cat II | AJ13: Y | AK13: Y | AN13: Y | AQ13: EA Engineering, Science, and Technology, Inc. 1987. Development of habitat suitability criteria for trout in the Kings River Basin, California. Final Report, August 1987. Report 009.4-87.10 prepared for Pacific Gas and Electric Company Research, Devel
A14: * | B14: Y | C14: 9 | D14: NF Stanislaus | E14: RBT | G14: adlt | H14: 16 | I14: 30 | J14: 243 | L14: USA | M14: CA | N14: NF Stanislaus | O14: 1800 | P14: 5600 | S14: 48 | T14: 10 | U14: 86 | W14: 26 | X14: 333 | Y14: 1-2 | AA14: 49 | AB14: 64 | AC14: rbt,brn,skr,scp,rch | AD14: Y | AE14: June-Sept | AF14: EA | AG14: DO uw | AH14: Cat II | AI14: polynomial regr | AJ14: Y | AK14: Y | AM14: N | AN14: N | AQ14: TRPA 1993
A15: * | B15: Y | C15: 10 | D15: Stanislaus Hi Flow | E15: RBT | G15: adlt | H15: 16 | I15: 40 | J15: 194 | L15: USA | M15: CA | N15: NF,MF,SF Stanislaus | O15: 2500 | P15: 5600 | S15: avg | T15: 49 | U15: 71 | W15: 30 | X15: 333 | Y15: 1.1-5.1 | AA15: 49 | AB15: 64 | AC15: rbt,brn,skr,scp,rch | AD15: Y | AE15: June-Nov | AF15: EA | AG15: DO uw | AH15: Cat II | AI15: polynomial regr | AJ15: Y | AK15: Y | AM15: N | AN15: N | AP15: 23 | AQ15: TRPA 2002
A16: * | B16: Y | C16: 11 | D16: SF Stanislaus Use | E16: RBT | G16: adlt | H16: 16 | I16: 40 | J16: 77 | L16: USA | M16: CA | N16: SF Stanislaus | O16: 4200 | P16: 4900 | S16: avg | T16: 41 | U16: 49 | W16: 8 | X16: 30 | Y16: 0.7-5.7 | AA16: 50 | AB16: 69 | AC16: rbt,brn | AD16: Y | AE16: June | AF16: EA micro | AG16: DO uw | AH16: Cat II | AI16: polynomial regr | AJ16: Y | AK16: Y | AP16: 21,22 | AQ16: TRPA 2002
A17: * | B17: Y | C17: 12 | D17: SF Stanislaus U/A | E17: RBT | G17: adlt | H17: 16 | I17: 40 | J17: 77 | L17: USA | M17: CA | N17: SF Stanislaus | O17: 4200 | P17: 4900 | S17: avg | T17: 41 | U17: 49 | W17: 8 | X17: 30 | Y17: 0.7-5.7 | AA17: 50 | AB17: 69 | AC17: rbt,brn | AD17: Y | AE17: June | AF17: EA micro | AG17: DO uw | AH17: Cat III | AI17: polynomial regr | AJ17: Y | AK17: Y | AP17: 21,22 | AQ17: TRPA 2002
A18: * | B18: Y | C18: 13 | D18: LNF Feather Use | E18: RBT | G18: adlt | H18: 16 | I18: 46 | J18: 95 | L18: USA | M18: CA | N18: low NF Feather | O18: 925 | P18: 2010 | S18: avg | T18: 70 | U18: 106 | W18: 96 | X18: 131 | Y18: 0.4-1.1 | AA18: 64 | AB18: 72 | AC18: rbt,skr,scp,hh,pm,smb,rch | AD18: Y | AE18: July-Aug | AG18: DO uw | AH18: Cat II | AI18: kernel smoother | AJ18: Y | AK18: Y | AM18: Y | AN18: N | AP18: 8 | AQ18: TRPA 2001
A19: * | B19: Y | C19: 14 | D19: LNF Feather U/A | E19: RBT | G19: adlt | H19: 16 | I19: 46 | J19: 95 | L19: USA | M19: CA | N19: low NF Feather | O19: 925 | P19: 2010 | S19: avg | T19: 70 | U19: 106 | W19: 96 | X19: 131 | Y19: 0.4-1.1 | AA19: 64 | AB19: 72 | AD19: Y | AE19: July-Aug | AG19: DO uw | AH19: Cat III | AI19: kernel smoother | AJ19: Y | AK19: Y | AM19: Y | AN19: N | AP19: 8 | AQ19: TRPA 2001
A20: * | B20: Y | C20: 15 | D20: LNF Feather Dens | E20: RBT | G20: adlt | H20: 16 | I20: 46 | J20: 95 | L20: USA | M20: CA | N20: low NF Feather | O20: 925 | P20: 2010 | S20: avg | T20: 70 | U20: 106 | W20: 96 | X20: 131 | Y20: 0.4-1.1 | AA20: 64 | AB20: 72 | AD20: Y | AE20: July-Aug | AG20: DO uw | AH20: Density | AI20: kernel smoother | AJ20: Y | AK20: Y | AM20: Y | AN20: N | AP20: 8,9 | AQ20: TRPA 2001
A21: * | B21: Y | C21: 16 | D21: LNF Feather PrAb | E21: RBT | G21: adlt | H21: 16 | I21: 46 | J21: 95 | L21: USA | M21: CA | N21: low NF Feather | O21: 925 | P21: 2010 | S21: avg | T21: 70 | U21: 106 | W21: 96 | X21: 131 | Y21: 0.4-1.1 | AA21: 64 | AB21: 72 | AD21: Y | AE21: July-Aug | AG21: DO uw | AH21: Pres-Abs | AI21: logistic regr | AJ21: Y | AK21: Y | AM21: Y | AN21: N | AP21: 8 | AQ21: TRPA 2001
A22: * | B22: Y | C22: 17 | D22: Pit | E22: RBT | G22: adlt | H22: 16 | J22: 252 | L22: USA | M22: CA | N22: Pit | O22: 1445 | P22: 2650 | T22: 40 | U22: 200 | W22: 50 | X22: 150 | Y22: 0.7-1.1 | Z22: 65 | AC22: rbt,skr,scp,hh,pm | AD22: Y | AF22: PROP | AG22: DO uw | AH22: Cat III | AJ22: Y | AK22: Y | AL22: Y | AM22: Y | AN22: Y | AP22: 1,10 | AQ22: Baltz & Vondracek 1985
A23: * | B23: Y | C23: 18 | D23: SF American Sml | E23: RBT | G23: adlt | H23: 16 | I23: 36 | J23: 89 | L23: USA | M23: CA | N23: Caples, Silver Frk | O23: 6000 | P23: 7000 | S23: avg | T23: 13 | U23: 28 | W23: 10 | X23: 32 | Y23: 1-8 | AA23: 46 | AB23: 62 | AC23: rbt,brn,brk,skr,scp | AD23: Y | AE23: July-Aug | AF23: EA | AG23: DO uw | AH23: Cat II | AI23: polynomial regr | AJ23: Y | AK23: Y | AL23: N | AM23: N | AN23: N | AP23: 11 | AQ23: TRPA 2000
A24: * | B24: Y | C24: 19 | D24: SF American Lrg | E24: RBT | G24: adlt | H24: 16 | I24: 50 | J24: 56 | L24: USA | M24: CA | N24: SF American | O24: 1950 | S24: 71 | T24: 42 | U24: 90 | V24: 154 | Y24: 1.3 | AA24: 62 | AB24: 71 | AC24: rbt,skr,scp,hh,pm,dac,rch | AD24: Y | AE24: July-Aug | AF24: EA | AG24: DO uw | AH24: Cat II | AI24: polynomial regr | AJ24: Y | AK24: Y | AL24: N | AM24: N | AN24: N | AP24: 11 | AQ24: TRPA 2000
A25: * | B25: Y | C25: 20 | D25: SF American Basin | E25: RBT | G25: adlt | H25: 16 | I25: 50 | J25: 145 | L25: USA | M25: CA | N25: SF Amer + tribs | O25: 1950 | P25: 7000 | S25: avg | T25: 13 | U25: 71 | W25: 10 | X25: 154 | Y25: 1-8 | AA25: 46 | AB25: 71 | AC25: rbt,skr,scp,hh,pm,dac,rch | AD25: Y | AE25: July-Aug | AF25: EA | AG25: DO uw | AH25: Cat II | AI25: polynomial regr | AJ25: Y | AK25: Y | AL25: N | AM25: N | AN25: N | AP25: 11 | AQ25: TRPA 2000
A26: * | B26: Y | C26: 21 | D26: Battle | E26: RBT | G26: adlt | H26: 16 | I26: 35 | J26: 164 | L26: USA | M26: CA | N26: Battle | O26: 1400 | P26: 3000 | S26: avg | T26: 14 | U26: 29 | W26: 4 | X26: 108 | Y26: 1-5 | AA26: 36 | AB26: 73 | AC26: rbt,scp | AD26: Y | AE26: May-Dec | AF26: EA | AG26: DO uw | AH26: Cat II | AI26: polynomial regr | AJ26: Y | AK26: Y | AL26: N | AM26: Y | AN26: N | AQ26: TRPA 1998
A27: * | B27: Y | C27: 22 | D27: Deer Use | E27: RBT | G27: adlt | H27: 13 | J27: 96 | L27: USA | M27: CA | N27: Deer | O27: 30 | P27: 3475 | W27: 100 | X27: 200 | AA27: 55 | AC27: rbt,brn,skr,scp,hh,pm,rch,dac,smb | AD27: Y | AE27: June-Oct | AF27: RCH | AG27: DO uw | AH27: Cat II | AI27: histogram | AJ27: Y | AK27: Y | AL27: Y | AM27: N | AN27: Y | AP27: 1 | AQ27: Moyle & Baltz 1985
A28: * | B28: Y | C28: 23 | D28: Deer Electivity | E28: RBT | G28: adlt | H28: 13 | J28: 96 | L28: USA | M28: CA | N28: Deer | O28: 30 | P28: 3475 | W28: 100 | X28: 200 | AA28: 55 | AC28: rbt,brn,skr,scp,hh,pm,rch,dac,smb | AD28: Y | AE28: June-Oct | AF28: RCH | AG28: DO uw | AH28: Cat III | AI28: histogram | AJ28: Y | AK28: Y | AL28: Y | AM28: N | AN28: Y | AP28: 1,18 | AQ28: Moyle & Baltz 1985
A29: * | B29: Y | C29: 24 | D29: Yosemite | E29: RBT | G29: adlt | H29: 13 | J29: 362 | L29: USA | M29: CA | N29: Eleanor,Cherry | O29: 3000 | P29: 4000 | W29: 15 | X29: 36 | AA29: 46 | AB29: 73 | AD29: Y | AE29: July-Aug | AF29: RCH | AG29: DO uw | AH29: Cat II | AI29: histogram | AJ29: Y | AK29: Y | AL29: Y | AN29: Y | AP29: 2 | AQ29: Baltz & Moyle (1984)
A30: * | B30: Y | C30: 25 | D30: Clavey | E30: RBT | G30: adlt | H30: 16 | J30: 474 | L30: USA | M30: CA | N30: Clavey | W30: 24 | X30: 130 | AD30: Y | AE30: summer | AF30: RCH | AG30: DO uw | AH30: Cat II | AI30: histogram | AJ30: Y | AK30: Y | AP30: 2 | AQ30: Tuol Co/Turlock Irr Dist 1993
A31: * | B31: Y | C31: 26 | D31: UNF Feather U/A | E31: RBT | G31: adlt | H31: 16 | I31: 42 | J31: 179 | L31: USA | M31: CA | N31: up NF Feather | O31: 2300 | P31: 3500 | S31: avg | T31: 40 | U31: 50 | W31: 40 | X31: 140 | Y31: 0.5-2.6 | AA31: 57 | AB31: 72 | AC31: rbt,skr,scp,pm | AD31: Y | AE31: June-Aug | AF31: EA | AG31: DO uw | AH31: Cat III | AI31: kernel,polynomial,Sturges | AJ31: Y | AK31: Y | AL31: N | AM31: Y | AN31: N | AP31: 19 | AQ31: TRPA 2002
A32: * | B32: Y | C32: 27 | D32: UNF Feather Dens | E32: RBT | G32: adlt | H32: 16 | I32: 42 | J32: 179 | L32: USA | M32: CA | N32: up NF Feather | O32: 2300 | P32: 3500 | S32: avg | T32: 40 | U32: 50 | W32: 40 | X32: 140 | Y32: 0.5-2.6 | AA32: 57 | AB32: 72 | AC32: rbt,skr,scp,pm | AD32: Y | AE32: June-Aug | AF32: EA | AG32: DO uw | AH32: Density | AI32: poisson regr | AJ32: Y | AK32: Y | AL32: N | AM32: Y | AN32: N | AP32: 12,20 | AQ32: TRPA 2002
A33: * | B33: Y | C33: 28 | D33: UNF Feather PrAb | E33: RBT | G33: adlt | H33: 16 | I33: 42 | J33: 179 | L33: USA | M33: CA | N33: up NF Feather | O33: 2300 | P33: 3500 | S33: avg | T33: 40 | U33: 50 | W33: 40 | X33: 140 | Y33: 0.5-2.6 | AA33: 57 | AB33: 72 | AC33: rbt,skr,scp,pm | AD33: Y | AE33: June-Aug | AF33: EA | AG33: DO uw | AH33: Pres-Abs | AI33: logistic regr | AJ33: Y | AK33: Y | AL33: N | AM33: Y | AN33: N | AP33: 20 | AQ33: TRPA 2002
A34: * | B34: Y | C34: 29 | D34: UNF Feather Comp | E34: RBT | G34: adlt | H34: 16 | I34: 42 | J34: 179 | L34: USA | M34: CA | N34: up NF Feather | O34: 2300 | P34: 3500 | S34: avg | T34: 40 | U34: 50 | W34: 40 | X34: 140 | Y34: 0.5-2.6 | AA34: 57 | AB34: 72 | AC34: rbt,skr,scp,pm | AD34: Y | AE34: June-Aug | AF34: EA | AG34: DO uw | AH34: Cat III | AI34: averaging | AJ34: Y | AK34: Y | AL34: N | AM34: Y | AN34: N | AP34: 13,20 | AQ34: TRPA 2002
A35: * | B35: Y | C35: 30 | D35: S Platte Opt | E35: RBT | G35: adlt | H35: 18 | J35: 163 | L35: USA | M35: CO | N35: So Platte | W35: 250 | X35: 600 | AC35: rbt,brn | AD35: Y | AE35: July-Aug | AF35: EA | AG35: DO uw | AH35: Cat II | AI35: binary | AJ35: Y | AK35: Y | AP35: 14 | AQ35: Thomas & Bovee 1993
A36: * | B36: Y | C36: 31 | D36: S Platte Suit | E36: RBT | G36: adlt | H36: 18 | J36: 163 | L36: USA | M36: CO | N36: So Platte | W36: 250 | X36: 600 | AC36: rbt,brn | AD36: Y | AE36: July-Aug | AF36: EA | AG36: DO uw | AH36: Cat II | AI36: binary | AJ36: Y | AK36: Y | AP36: 14 | AQ36: Thomas & Bovee 1993
A37: * | B37: Y | C37: 32 | D37: E Wash winter | E37: RBT | G37: juv+adlt | L37: USA | M37: WA | N37: Sullivan | AD37: N | AE37: winter | AF37: - | AG37: - | AH37: Cat I | AI37: - | AJ37: Y | AK37: Y | AP37: 15 | AQ37: HDR Engineering, Inc. 1994. Sullivan Creek Hydroelectric Project, FERC No. 2225. Report to Public Utility District No. 1 of Pend Oreille County, Newport, Washington.
A38: * | B38: Y | C38: 33 | D38: W Cascades winter | E38: RBT | G38: juv+adlt | J38: 310 | L38: USA | M38: WA | N38: 4 streams ? | O38: 500 | P38: 4700 | Y38: 5-10 | AA38: 34 | AB38: 37 | AD38: Y | AE38: winter | AF38: - | AG38: - | AH38: Cat I | AI38: - | AJ38: Y | AK38: Y | AP38: 16 | AQ38: Beak Consultants Incorporated. 1991. Draft Report to Puget Sound Power and Light Co. Beak Consultants, Bellevue, WA. August 1985.
A39: * | B39: Y | C39: 34 | D39: Pit wint | E39: RBT | G39: adlt | H39: 13 | J39: 121 | L39: USA | M39: CA | N39: Pit (#3) | AA39: 41 | AB39: 50 | AD39: Y | AE39: Nov | AF39: RCH | AG39: DO uw | AH39: Cat II | AI39: histogram | AJ39: Y | AK39: Y | AP39: 17 | AQ39: Vondracek et al. 1992
A40: * | B40: Y | C40: 35 | D40: Yakima Use | E40: RBT | G40: adlt | L40: USA | M40: WA | N40: Yakima,American | AQ40: Stempel
A41: * | B41: Y | C41: 36 | D41: Yakima U/A | E41: RBT | G41: adlt | L41: USA | M41: WA | N41: Yakima,American
A42: * | B42: Y | C42: 37 | D42: St. Lawrence | E42: RBT | G42: adlt | L42: USA,CAN | N42: St. Lawrence | AD42: Y | AG42: Telemetry | AJ42: Y | AK42: Y | AP42: 1
A43: * | B43: Y | C43: 38 | D43: UARP sml | E43: RBT | G43: adlt | J43: - | K43: - | L43: USA | M43: CA | N43: generic sml chan | AD43: N | AE43: - | AF43: - | AG43: - | AH43: Cat I | AJ43: Y | AK43: Y | AP43: 25 | AQ43: Upper American River Project curves (Scott Wilcox, Stillwater Sciences, pers comm.)
A44: * | B44: Y | C44: 39 | D44: UARP med | E44: RBT | G44: adlt | J44: - | K44: - | L44: USA | M44: CA | N44: generic med chan | AD44: N | AE44: - | AF44: - | AG44: - | AH44: Cat I | AJ44: Y | AK44: Y | AP44: 25 | AQ44: Upper American River Project curves (Scott Wilcox, Stillwater Sciences, pers comm.)
A45: * | B45: Y | C45: 40 | D45: UARP lrg | E45: RBT | G45: adlt | J45: - | K45: - | L45: USA | M45: CA | N45: generic lrg chan | AD45: N | AE45: - | AF45: - | AG45: - | AH45: Cat I | AJ45: Y | AK45: Y | AP45: 25 | AQ45: Upper American River Project curves (Scott Wilcox, Stillwater Sciences, pers comm.)
A46: * | B46: Y | C46: 41 | D46: Studley-Spina | E46: RBT | G46: adlt | J46: - | K46: - | L46: USA | M46: CA | N46: generic | AD46: N | AE46: - | AF46: - | AG46: - | AH46: Cat I | AJ46: Y | AK46: Y | AQ46: PGE curves (PGE pers. comm.)
A47: * | B47: Y | C47: 42 | D47: Saskatchewan | E47: RBT | G47: adlt | L47: CAN | M47: Alberta | N47: Sask Basin streams | AD47: N | AH47: Cat I | AJ47: Y | AK47: Y | AP47: 24 | AQ47: Addley, C., G.K. Clipperton, T. Hardy, and A.G.H. Locke. 2003. South Saskatchewan River Basin, Alberta, Canada – fish habitat suitability criteria (HSC) curves. Alberta Fish & Wildlife Division, Alberta Sustainable Resource Development. Edmonton, Alberta. 63pp. ISBN 0-7785-359-4.
A48: * | B48: Y | C48: 43 | D48: Kootenai | E48: RBT | F48: redband | G48: adlt | H48: 12.6 | J48: 332 | K48: 332 | L48: USA | M48: MT,ID | N48: Callahan & Basin Crks | O48: 1800 | P48: 6200 | AD48: Y | AE48: summer | AF48: RR | AG48: DO uw | AH48: Cat III | AI48: raw histogram | AJ48: Y | AK48: Y | AL48: N | AM48: N | AN48: Y | AP48: 26 | AQ48: Muhlfeld, C.C., D.H. Bennett, and B. Marotz. 2001. Summer habitat use by Columbia River redband trout in the Kootenai River drainage, Montana. North American Journal of Fisheries Management 21:223-235.
A49: * | B49: Y | C49: 44 | D49: Oldman | E49: RBT | G49: adlt | H49: 25 | J49: 151 | K49: 151 | L49: CAN | M49: Alberta | N49: Crowsnest R | AD49: Y | AE49: summer | AG49: DO uw/EF | AH49: Cat III | AJ49: Y | AK49: Y | AQ49: Fernet, D.A., R.F. Courtney, and C.P. Bjornson. 1990. Instream flow requirements for fishes downstream of the Oldman River Dam. Report by Environmental Management Associates for Alberta Public Works, Supply and Services, Edmonton, Alberta.
A50: * | B50: Y | C50: 45 | D50: Hells Canyon | E50: RBT | F50: redband | G50: adlt | H50: 26 | I50: 46 | J50: 75 | K50: 75 | L50: USA | M50: ID | N50: Snake | W50: 7282 | X50: 32420 | AA50: 2.7 | AB50: 16 | AD50: Y | AE50: winter-spring | AG50: Telemetry | AH50: Cat II | AI50: visual | AJ50: Y | AK50: Y | AL50: btm | AN50: Y | AP50: 27 | AQ50: Chandler, J.A., editor. 2003. Redband trout and bull trout associated with the Hells Canyon Complex. Idaho Power Technical Report Appendix E.3.1-7.
A51: * | B51: Y | C51: 46 | D51: SF Amer (FWS) | E51: RBT | G51: adlt | H51: 16 | I51: 50 | J51: 145 | L51: USA | M51: CA | N51: SF Amer + tribs | O51: 1950 | P51: 7000 | S51: avg | T51: 13 | U51: 71 | W51: 10 | X51: 154 | Y51: 1-8 | AA51: 46 | AB51: 71 | AC51: rbt,skr,scp,hh,pm,dac,rch | AD51: Y | AE51: July-Aug | AF51: EA | AG51: DO uw | AH51: Pres-Abs | AI51: logistic regr | AJ51: Y | AK51: Y | AL51: N | AM51: N | AN51: N | AP51: 28 | AQ51: USFWS. 2004. Flow-habitat relationships for adult and juvenile rainbow trout in the Big Creek Project. USFWS Energy Planning and Instream Flow Branch. 31pp.
A52: * | B52: Y | C52: 47 | D52: YubaBear lrg | E52: RBT | G52: adlt | L52: USA | M52: CA | N52: Yuba R forks/tribs | AD52: N | AH52: Cat I | AJ52: Y | AK52: Y | AO52: Y | AP52: 29 | AQ52: Concensus HSC from Yuba-Bear/Drum-Spaulding Relicensing Process
A53: * | B53: Y | C53: 48 | D53: YubaBear med | E53: RBT | G53: adlt | L53: USA | M53: CA | N53: Yuba R forks/tribs | AD53: N | AH53: Cat I | AJ53: Y | AK53: Y | AO53: Y | AP53: 29 | AQ53: Concensus HSC from Yuba-Bear/Drum-Spaulding Relicensing Process
A54: * | B54: Y | C54: 49 | D54: YubaBear sml | E54: RBT | G54: adlt | L54: USA | M54: CA | N54: Yuba R forks/tribs | AD54: N | AH54: Cat I | AJ54: Y | AK54: Y | AO54: Y | AP54: 29 | AQ54: Concensus HSC from Yuba-Bear/Drum-Spaulding Relicensing Process
A55: * | B55: Y | C55: 50 | D55: Tuol MOD | E55: RBT | G55: adlt | L55: USA | M55: CA | N55: Tuolumne | AD55: N | AH55: Cat I | AJ55: Y | AK55: Y | AP55: 30 | AQ55: Concensus HSC from Lower Tuolumne Relicensing Process (curve pts from 2/3/11 HSC mtg summary)
A56: * | B56: Y | C56: 51 | D56: Trinity STH | E56: STH | F56: steelhead | G56: adlt | J56: 44 | L56: USA | M56: CA | N56: Trinity | AD56: Y | AH56: Cat II | AJ56: Y | AK56: Y | AQ56: Hampton, M. 1997. Microhabitat suitability criteria for anadromous salmonids of the Trinity River. T.R. Payne and J.A. Thomas, contributing editors. U.S. Fish and Wildlife Service, Coastal California Fish and Wildlife Office, Arcata, CA, December 15, 1997. 10pp + figs and apps.
A57: * | B57: Y | C57: 52 | D57: Yakima delphi | E57: STH | F57: steelhead | G57: adlt | L57: USA | M57: WA | N57: Yakima Basin | AD57: N | AH57: I delphi | AJ57: Y | AK57: Y | AP57: 31 | AQ57: Yakima river Decision support system, Delphi round 4 results
C59: Keys:
C60: 1 | D60: # HSC observations is number of independent measurements at fish positions, # fish is total number of fish seen at the measurement locations
C61: 2 | D61: stream habitat characteristics DURING THE PERIOD OF SAMPLING FOR HSC
C62: 3 | D62: species abbreviations: chs=chinook salmon, coh=coho salmon, sth=steelhead, rbt=rainbow trout (resident), brn=brown trout, brk=brook trout, bul=bull trout, cut=cutthroat trout, wtf=whitefish, skr=suckers, scp=sculpin, pkm=pikeminnow, hdh=hardhead, dac=dace
C63: 4 | D63: survey design: sampling design used to collect hsc data, i.e. reaches - samples collected in representative reach(es), proportional - samples collected within mesohabitat types with effort in proportional to availability, equal-area - samples collected wi
C64: 5 | D64: observation method: DOuw-direct observation underwater (snorkeling/scuba), DOow-direct observation out-of-water (wading, boat, or bank observation), EF-electrofishing, VID-underwater video, NET-seining or other net capture, Other (see comments)
C65: 6 | D65: curve type: Cat I - hand-drawn or a composite of various curves based on professional judgment, Cat II - based on habitat use data, Cat III - based on habitat use data adjusted by habitat availability data, Bio - bioenergetics hsc
C66: 7 | D66: curve smoothing: method used (if any) to smooth raw observation or frequency histogram data
C67: 8 | D67: see hsc data sets for cover and substrate coding details
C69: Notes:
C71: 1 | D71: curve points taken from IFG HSC summary printout
C72: 2 | D72: curve points approximated from graphs, size class in SL
C73: 6 | D73: few adults >30cm, adjacent velocity and bioenergetics data also collected
C74: 8 | D74: sampling effort was approximately 60% slow water (pools) and 40% fast-water (riffles, runs, pocketwaters)
C75: 9 | D75: density HSC were developed w 95% C.I. along strip transects partioned into patches of varying depth and velocity intervals
C76: 10 | D76: data reweighted to simulate equal-area sampling
C77: 11 | D77: HSC data from small and large channels normalized before pooling; a variety of substrate and cover codes were used in a transferability test, but HSC curves were not developed from them
C78: 12 | D78: density HSC were developed within quadrats characterized according to depth and velocity intervals
C79: 13 | D79: the preceeding curve-types were averaged to develop the composite curve
C80: 14 | D80: optimal habitat was defined as the central 50% of observations, suitable was defined as the central 95%
C81: 15 | D81: curves created by John Blum and Hal Beecher from Campbell & Neuner 85 and Schrader 88 for HDR Engineering
C82: 16 | D82: based on general observations, not on actual focal measurements
... C97: 31 | D97: binary curves for "suitable" range based on 25th percentile for depth/velocity minimums, and 75th percentile for D/V maximums

Sheet Omadlt.vel Yuba
P1: New HSC Curve:
P2: MCVel | Q2: Yuba New
P3: 0 | Q3: 0
P4: 0 | Q4: 0
P5: 0 | Q5: 0
P6: 0 | Q6: 0
P7: 0 | Q7: 0

Sheet Omadlt.dep Yuba
P1: New HSC Curve:
P2: Depth | Q2: Yuba New
P3: 0 | Q3: 0
P4: 0 | Q4: 0
P5: 0 | Q5: 0
P6: 0 | Q6: 0
P7: 0 | Q7: 0

Sheet adlt.dat
C1: Rainbow Trout ADULT HSC Data
A3: Show? | B3: CRV# | C3: Velocity | D3: Suitability | E3: Depth | F3: Suitability | G3: Attribute | H3: Suitability
A4: =Omadlt.info!B$6 -> Y | B4: =Omadlt.info!C$6 -> 1 | C4: Velocity | D4: Bovee | E4: Depth | F4: Bovee | G4: Substrate | H4: Bovee | I4: Bovee | J4: code | K4: sub type | L4: mm | M4: inches
A5: =Omadlt.info!B$6 -> Y | B5: =Omadlt.info!C$6 -> 1 | C5: 0 | D5: 0.04 | E5: 0 | F5: 0 | J5: 1 | K5: org matter
A6: =Omadlt.info!B$6 -> Y | B6: =Omadlt.info!C$6 -> 1 | C6: 0.1 | D6: 0.18 | E6: 0.15 | F6: 0.06 | J6: 2 | K6: mud,soft clay
A7: =Omadlt.info!B$6 -> Y | B7: =Omadlt.info!C$6 -> 1 | C7: 0.25 | D7: 0.32 | E7: 0.3 | F7: 0.11 | J7: 3 | K7: silt | L7: <0.062 | M7: <0.002
A8: =Omadlt.info!B$6 -> Y | B8: =Omadlt.info!C$6 -> 1 | C8: 0.5 | D8: 0.48 | E8: 0.5 | F8: 0.14 | J8: 4 | K8: sand | L8: 0.062-2 | M8: 0.002-0.1
A9: =Omadlt.info!B$6 -> Y | B9: =Omadlt.info!C$6 -> 1 | C9: 0.75 | D9: 0.63 | E9: 0.8 | F9: 0.18 | J9: 5 | K9: gravel | L9: 2-64 | M9: 0.1-2.5
A10: =Omadlt.info!B$6 -> Y | B10: =Omadlt.info!C$6 -> 1 | C10: 0.95 | D10: 0.81 | E10: 0.85 | F10: 0.19 | J10: 6 | K10: cobble / rubble | L10: 64-250 | M10: 2.5-10
A11: =Omadlt.info!B$6 -> Y | B11: =Omadlt.info!C$6 -> 1 | C11: 1 | D11: 0.88 | E11: 1 | F11: 0.22 | J11: 7 | K11: boulder | L11: >250 | M11: >10
A12: =Omadlt.info!B$6 -> Y | B12: =Omadlt.info!C$6 -> 1 | C12: 1.05 | D12: 0.95 | E12: 1.1 | F12: 0.26 | J12: 8 | K12: bedrock
A13: =Omadlt.info!B$6 -> Y | B13: =Omadlt.info!C$6 -> 1 | C13: 1.15 | D13: 0.98 | E13: 1.2 | F13: 0.3
A14: =Omadlt.info!B$6 -> Y | B14: =Omadlt.info!C$6 -> 1 | C14: 1.2 | D14: 1 | E14: 1.3 | F14: 0.36
A15: =Omadlt.info!B$6 -> Y | B15: =Omadlt.info!C$6 -> 1 | C15: 1.3 | D15: 1 | E15: 1.4 | F15: 0.46
A16: =Omadlt.info!B$6 -> Y | B16: =Omadlt.info!C$6 -> 1 | C16: 1.35 | D16: 0.98 | E16: 1.45 | F16: 0.54
A17: =Omadlt.info!B$6 -> Y | B17: =Omadlt.info!C$6 -> 1 | C17: 1.45 | D17: 0.93 | E17: 1.5 | F17: 0.73
A18: =Omadlt.info!B$6 -> Y | B18: =Omadlt.info!C$6 -> 1 | C18: 1.65 | D18: 0.79 | E18: 1.55 | F18: 0.91
A19: =Omadlt.info!B$6 -> Y | B19: =Omadlt.info!C$6 -> 1 | C19: 1.95 | D19: 0.66 | E19: 1.6 | F19: 0.95
A20: =Omadlt.info!B$6 -> Y | B20: =Omadlt.info!C$6 -> 1 | C20: 2.1 | D20: 0.56 | E20: 1.65 | F20: 0.98
A21: =Omadlt.info!B$6 -> Y | B21: =Omadlt.info!C$6 -> 1 | C21: 2.25 | D21: 0.42 | E21: 1.75 | F21: 1
A22: =Omadlt.info!B$6 -> Y | B22: =Omadlt.info!C$6 -> 1 | C22: 2.4 | D22: 0.3 | E22: 100 | F22: 1
A23: =Omadlt.info!B$6 -> Y | B23: =Omadlt.info!C$6 -> 1 | C23: 2.9 | D23: 0
A24: =Omadlt.info!B$6 -> Y | B24: =Omadlt.info!C$6 -> 1
A25: =Omadlt.info!B$7 -> Y | B25: =Omadlt.info!C$7 -> 2 | C25: Velocity | D25: Raleigh | E25: Depth | F25: Raleigh | G25: Substrate | H25: Raleigh | J25: code | K25: sub type | L25: mm | M25: inches
A26: =Omadlt.info!B$7 -> Y | B26: =Omadlt.info!C$7 -> 2 | C26: 0 | D26: 0.81 | E26: 0 | F26: 0 | J26: 1 | K26: org matter
A27: =Omadlt.info!B$7 -> Y | B27: =Omadlt.info!C$7 -> 2 | C27: 0.5 | D27: 1 | E27: 1.5 | F27: 1 | J27: 2 | K27: mud,soft clay
A28: =Omadlt.info!B$7 -> Y | B28: =Omadlt.info!C$7 -> 2 | C28: 2 | D28: 1 | E28: 100 | F28: 1 | J28: 3 | K28: silt | L28: <0.062 | M28: <0.002
A29: =Omadlt.info!B$7 -> Y | B29: =Omadlt.info!C$7 -> 2 | C29: 2.45 | D29: 0.02 | J29: 4 | K29: sand | L29: 0.062-2 | M29: 0.002-0.1
A30: =Omadlt.info!B$7 -> Y | B30: =Omadlt.info!C$7 -> 2 | C30: 2.95 | D30: 0.02 | J30: 5 | K30: gravel | L30: 2-64 | M30: 0.1-2.5
A31: =Omadlt.info!B$7 -> Y | B31: =Omadlt.info!C$7 -> 2 | C31: 3.45 | D31: 0.01 | J31: 6 | K31: cobble / rubble | L31: 64-250 | M31: 2.5-10
A32: =Omadlt.info!B$7 -> Y | B32: =Omadlt.info!C$7 -> 2 | C32: 3.5 | D32: 0 | J32: 7 | K32: boulder | L32: >250 | M32: >10
A33: =Omadlt.info!B$7 -> Y | B33: =Omadlt.info!C$7 -> 2 | J33: 8 | K33: bedrock
A34: =Omadlt.info!B$7 -> Y | B34: =Omadlt.info!C$7 -> 2
A35: =Omadlt.info!B$8 -> Y | B35: =Omadlt.info!C$8 -> 3 | C35: Velocity | D35: Upper Klamath | E35: Depth | F35: Upper Klamath | G35: Cover | H35: Upper Klamath | J35: code | K35: cover/sub type
A36: =Omadlt.info!B$8 -> Y | B36: =Omadlt.info!C$8 -> 3 | C36: 0 | D36: 0.05 | E36: 0 | F36: 0 | H36: not yet finalized | J36: 1 | K36: Filamentous algae
A37: =Omadlt.info!B$8 -> Y | B37: =Omadlt.info!C$8 -> 3 | C37: 0.05 | D37: 0.078828927 | E37: 0.1 | F37: 0.02 | J37: 2 | K37: Non-emergent rooted aquatic veg
A38: =Omadlt.info!B$8 -> Y | B38: =Omadlt.info!C$8 -> 3 | C38: 0.15 | D38: 0.15627012 | E38: 0.3 | F38: 0.04 | J38: 3 | K38: Emergent rooted aquatic veg
A39: =Omadlt.info!B$8 -> Y | B39: =Omadlt.info!C$8 -> 3 | C39: 0.25 | D39: 0.23430533 | E39: 0.5 | F39: 0.058633046 | J39: 4 | K39: Grass, sedges, herbs
A40: =Omadlt.info!B$8 -> Y | B40: =Omadlt.info!C$8 -> 3 | C40: 0.35 | D40: 0.31835924 | E40: 0.7 | F40: 0.078130534 | J40: 5 | K40: Trees
A41: =Omadlt.info!B$8 -> Y | B41: =Omadlt.info!C$8 -> 3 | C41: 0.45 | D41: 0.41362176 | E41: 0.9 | F41: 0.10667625 | J41: 6 | K41: Multi-stem shrub-like veg
A42: =Omadlt.info!B$8 -> Y | B42: =Omadlt.info!C$8 -> 3 | C42: 0.55 | D42: 0.5205076 | E42: 1.1 | F42: 0.140753 | J42: 7 | K42: Duff, leaf-litter, organics
A43: =Omadlt.info!B$8 -> Y | B43: =Omadlt.info!C$8 -> 3 | C43: 0.65 | D43: 0.63313739 | E43: 1.3 | F43: 0.17544719 | J43: 8 | K43: Large woody debris (>4"x12')
A44: =Omadlt.info!B$8 -> Y | B44: =Omadlt.info!C$8 -> 3 | C44: 0.75 | D44: 0.74220661 | E44: 1.5 | F44: 0.22256078 | J44: 9 | K44: Small woody debris
A45: =Omadlt.info!B$8 -> Y | B45: =Omadlt.info!C$8 -> 3 | C45: 0.85 | D45: 0.83903044 | E45: 1.7 | F45: 0.28697202 | J45: 10 | K45: Rootwads
A46: =Omadlt.info!B$8 -> Y | B46: =Omadlt.info!C$8 -> 3 | C46: 0.95 | D46: 0.91746277 | E46: 1.9 | F46: 0.38133879 | J46: 11 | K46: Aggregates of veg cover
A47: =Omadlt.info!B$8 -> Y | B47: =Omadlt.info!C$8 -> 3 | C47: 1.05 | D47: 0.97253479 | E47: 2.1 | F47: 0.49846786 | J47: 12 | K47: river bank, fines
A48: =Omadlt.info!B$8 -> Y | B48: =Omadlt.info!C$8 -> 3 | C48: 1.15 | D48: 1 | E48: 2.3 | F48: 0.63103937 | J48: 13 | K48: Small Gravel (0.2-1")
A49: =Omadlt.info!B$8 -> Y | B49: =Omadlt.info!C$8 -> 3 | C49: 1.25 | D49: 0.99871736 | E49: 2.5 | F49: 0.72781783 | J49: 14 | K49: Medium Gravel (1-2")
A50: =Omadlt.info!B$8 -> Y | B50: =Omadlt.info!C$8 -> 3 | C50: 1.35 | D50: 0.97425368 | E50: 2.7 | F50: 0.7728277 | J50: 15 | K50: Large Gravel (2-3") | M50: where is very large gravel ???
A51: =Omadlt.info!B$8 -> Y | B51: =Omadlt.info!C$8 -> 3 | C51: 1.45 | D51: 0.93803127 | E51: 2.9 | F51: 0.77162087 | J51: 16 | K51: Small Cobble (4-6")
A52: =Omadlt.info!B$8 -> Y | B52: =Omadlt.info!C$8 -> 3 | C52: 1.55 | D52: 0.90057785 | E52: 3.1 | F52: 0.78396284 | J52: 17 | K52: Medium Cobble (6-9")
A53: =Omadlt.info!B$8 -> Y | B53: =Omadlt.info!C$8 -> 3 | C53: 1.65 | D53: 0.8643476 | E53: 3.3 | F53: 0.8172074 | J53: 18 | K53: Large Cobble (9-12")
A54: =Omadlt.info!B$8 -> Y | B54: =Omadlt.info!C$8 -> 3 | C54: 1.75 | D54: 0.82250115 | E54: 3.5 | F54: 0.88812096 | J54: 19 | K54: Small Boulder (12-24")
A55: =Omadlt.info!B$8 -> Y | B55: =Omadlt.info!C$8 -> 3 | C55: 1.85 | D55: 0.76542286 | E55: 3.7 | F55: 0.94642459 | J55: 20 | K55: Medium Boulder (24-48")
A56: =Omadlt.info!B$8 -> Y | B56: =Omadlt.info!C$8 -> 3 | C56: 1.95 | D56: 0.68824994 | E56: 3.9 | F56: 0.99669221 | J56: 21 | K56: Large Boulder (>48")
A57: =Omadlt.info!B$8 -> Y | B57: =Omadlt.info!C$8 -> 3 | C57: 2.05 | D57: 0.59451137 | E57: 20 | F57: 0.99669221 | J57: 22 | K57: Bedrock
A58: =Omadlt.info!B$8 -> Y | B58: =Omadlt.info!C$8 -> 3 | C58: 2.15 | D58: 0.49376136
A59: =Omadlt.info!B$8 -> Y | B59: =Omadlt.info!C$8 -> 3 | C59: 2.25 | D59: 0.39750297
A60: =Omadlt.info!B$8 -> Y | B60: =Omadlt.info!C$8 -> 3 | C60: 2.35 | D60: 0.31535013
A61: =Omadlt.info!B$8 -> Y | B61: =Omadlt.info!C$8 -> 3 | C61: 2.45 | D61: 0.25388352
A62: =Omadlt.info!B$8 -> Y | B62: =Omadlt.info!C$8 -> 3 | C62: 2.55 | D62: 0.21659735
A63: =Omadlt.info!B$8 -> Y | B63: =Omadlt.info!C$8 -> 3 | C63: 2.65 | D63: 0.20437289
A64: =Omadlt.info!B$8 -> Y | B64: =Omadlt.info!C$8 -> 3 | C64: 2.75 | D64: 0.19337289
A65: =Omadlt.info!B$8 -> Y | B65: =Omadlt.info!C$8 -> 3 | C65: 2.85 | D65: 0.18237289
A66: =Omadlt.info!B$8 -> Y | B66: =Omadlt.info!C$8 -> 3 | C66: 2.95 | D66: 0.17137289
A67: =Omadlt.info!B$8 -> Y | B67: =Omadlt.info!C$8 -> 3 | C67: 3.05 | D67: 0.16037289
A68: =Omadlt.info!B$8 -> Y | B68: =Omadlt.info!C$8 -> 3 | C68: 3.15 | D68: 0.14937289
A69: =Omadlt.info!B$8 -> Y | B69: =Omadlt.info!C$8 -> 3 | C69: 3.25 | D69: 0.13837289
... A81: =Omadlt.info!B$8 -> Y | B81: =Omadlt.info!C$8 -> 3 | C81: 4.45 | D81: 0
A82: =Omadlt.info!B$8 -> Y | B82: =Omadlt.info!C$8 -> 3
A83: =Omadlt.info!B$9 -> Y | B83: =Omadlt.info!C$9 -> 4 | C83: Velocity | D83: Alt Flows Use | E83: Depth | F83: Alt Flows Use
A84: =Omadlt.info!B$9 -> Y | B84: =Omadlt.info!C$9 -> 4 | C84: 0 | D84: 1 | E84: 0.29 | F84: 0
A85: =Omadlt.info!B$9 -> Y | B85: =Omadlt.info!C$9 -> 4 | C85: 0.1 | D85: 0.81 | E85: 0.3 | F85: 0.28
A86: =Omadlt.info!B$9 -> Y | B86: =Omadlt.info!C$9 -> 4 | C86: 0.2 | D86: 0.66 | E86: 0.4 | F86: 0.33
A87: =Omadlt.info!B$9 -> Y | B87: =Omadlt.info!C$9 -> 4 | C87: 0.3 | D87: 0.53 | E87: 0.5 | F87: 0.37
A88: =Omadlt.info!B$9 -> Y | B88: =Omadlt.info!C$9 -> 4 | C88: 0.4 | D88: 0.43 | E88: 0.6 | F88: 0.42
A89: =Omadlt.info!B$9 -> Y | B89: =Omadlt.info!C$9 -> 4 | C89: 0.5 | D89: 0.35 | E89: 0.7 | F89: 0.48
A90: =Omadlt.info!B$9 -> Y | B90: =Omadlt.info!C$9 -> 4 | C90: 0.6 | D90: 0.28 | E90: 0.8 | F90: 0.53
A91: =Omadlt.info!B$9 -> Y | B91: =Omadlt.info!C$9 -> 4 | C91: 0.7 | D91: 0.23 | E91: 0.9 | F91: 0.59
A92: =Omadlt.info!B$9 -> Y | B92: =Omadlt.info!C$9 -> 4 | C92: 0.8 | D92: 0.19 | E92: 1 | F92: 0.64
A93: =Omadlt.info!B$9 -> Y | B93: =Omadlt.info!C$9 -> 4 | C93: 0.9 | D93: 0.15 | E93: 1.1 | F93: 0.7
A94: =Omadlt.info!B$9 -> Y | B94: =Omadlt.info!C$9 -> 4 | C94: 1 | D94: 0.12 | E94: 1.2 | F94: 0.75
A95: =Omadlt.info!B$9 -> Y | B95: =Omadlt.info!C$9 -> 4 | C95: 1.1 | D95: 0.1 | E95: 1.3 | F95: 0.81
... A106: =Omadlt.info!B$9 -> Y | B106: =Omadlt.info!C$9 -> 4 | C106: 2.6 | D106: 0 | E106: 2.5 | F106: 0.9
A107: =Omadlt.info!B$9 -> Y | B107: =Omadlt.info!C$9 -> 4 | E107: 2.6 | F107: 0.86
A108: =Omadlt.info!B$9 -> Y | B108: =Omadlt.info!C$9 -> 4 | E108: 2.7 | F108: 0.81
A109: =Omadlt.info!B$9 -> Y | B109: =Omadlt.info!C$9 -> 4 | E109: 2.8 | F109: 0.76
A110: =Omadlt.info!B$9 -> Y | B110: =Omadlt.info!C$9 -> 4 | E110: 2.9 | F110: 0.7
A111: =Omadlt.info!B$9 -> Y | B111: =Omadlt.info!C$9 -> 4 | E111: 3 | F111: 0.65
A112: =Omadlt.info!B$9 -> Y | B112: =Omadlt.info!C$9 -> 4 | E112: 3.1 | F112: 0.59
A113: =Omadlt.info!B$9 -> Y | B113: =Omadlt.info!C$9 -> 4 | E113: 3.2 | F113: 0.53
A114: =Omadlt.info!B$9 -> Y | B114: =Omadlt.info!C$9 -> 4 | E114: 3.3 | F114: 0.48
A115: =Omadlt.info!B$9 -> Y | B115: =Omadlt.info!C$9 -> 4 | E115: 3.4 | F115: 0.43
A116: =Omadlt.info!B$9 -> Y | B116: =Omadlt.info!C$9 -> 4 | E116: 3.5 | F116: 0.38
A117: =Omadlt.info!B$9 -> Y | B117: =Omadlt.info!C$9 -> 4 | E117: 3.6 | F117: 0.33
A118: =Omadlt.info!B$9 -> Y | B118: =Omadlt.info!C$9 -> 4 | E118: 3.7 | F118: 0.28
... A135: =Omadlt.info!B$9 -> Y | B135: =Omadlt.info!C$9 -> 4 | E135: 5.6 | F135: 0
A136: =Omadlt.info!B$9 -> Y | B136: =Omadlt.info!C$9 -> 4
A137: =Omadlt.info!B$10 -> Y | B137: =Omadlt.info!C$10 -> 5 | C137: Velocity | D137: Alt Flows U/A | E137: Depth | F137: Alt Flows U/A
A138: =Omadlt.info!B$10 -> Y | B138: =Omadlt.info!C$10 -> 5 | C138: 0 | D138: 1 | E138: 0.2 | F138: 0
...
